BEGIN:VCALENDAR
VERSION:2.0
PRODID:-//KGV Grünland - ECPv6.15.14//NONSGML v1.0//EN
CALSCALE:GREGORIAN
METHOD:PUBLISH
X-WR-CALNAME:KGV Grünland
X-ORIGINAL-URL:https://www.klg-gruenland.at
X-WR-CALDESC:Veranstaltungen für KGV Grünland
REFRESH-INTERVAL;VALUE=DURATION:PT1H
X-Robots-Tag:noindex
X-PUBLISHED-TTL:PT1H
BEGIN:VTIMEZONE
TZID:Europe/Berlin
BEGIN:DAYLIGHT
TZOFFSETFROM:+0100
TZOFFSETTO:+0200
TZNAME:CEST
DTSTART:20210328T010000
END:DAYLIGHT
BEGIN:STANDARD
TZOFFSETFROM:+0200
TZOFFSETTO:+0100
TZNAME:CET
DTSTART:20211031T010000
END:STANDARD
BEGIN:DAYLIGHT
TZOFFSETFROM:+0100
TZOFFSETTO:+0200
TZNAME:CEST
DTSTART:20220327T010000
END:DAYLIGHT
BEGIN:STANDARD
TZOFFSETFROM:+0200
TZOFFSETTO:+0100
TZNAME:CET
DTSTART:20221030T010000
END:STANDARD
BEGIN:DAYLIGHT
TZOFFSETFROM:+0100
TZOFFSETTO:+0200
TZNAME:CEST
DTSTART:20230326T010000
END:DAYLIGHT
BEGIN:STANDARD
TZOFFSETFROM:+0200
TZOFFSETTO:+0100
TZNAME:CET
DTSTART:20231029T010000
END:STANDARD
BEGIN:DAYLIGHT
TZOFFSETFROM:+0100
TZOFFSETTO:+0200
TZNAME:CEST
DTSTART:20240331T010000
END:DAYLIGHT
BEGIN:STANDARD
TZOFFSETFROM:+0200
TZOFFSETTO:+0100
TZNAME:CET
DTSTART:20241027T010000
END:STANDARD
BEGIN:DAYLIGHT
TZOFFSETFROM:+0100
TZOFFSETTO:+0200
TZNAME:CEST
DTSTART:20250330T010000
END:DAYLIGHT
BEGIN:STANDARD
TZOFFSETFROM:+0200
TZOFFSETTO:+0100
TZNAME:CET
DTSTART:20251026T010000
END:STANDARD
BEGIN:DAYLIGHT
TZOFFSETFROM:+0100
TZOFFSETTO:+0200
TZNAME:CEST
DTSTART:20260329T010000
END:DAYLIGHT
BEGIN:STANDARD
TZOFFSETFROM:+0200
TZOFFSETTO:+0100
TZNAME:CET
DTSTART:20261025T010000
END:STANDARD
BEGIN:DAYLIGHT
TZOFFSETFROM:+0100
TZOFFSETTO:+0200
TZNAME:CEST
DTSTART:20270328T010000
END:DAYLIGHT
BEGIN:STANDARD
TZOFFSETFROM:+0200
TZOFFSETTO:+0100
TZNAME:CET
DTSTART:20271031T010000
END:STANDARD
END:VTIMEZONE
BEGIN:VEVENT
DTSTART;TZID=Europe/Berlin:20260105T170000
DTEND;TZID=Europe/Berlin:20260105T210000
DTSTAMP:20260420T143522
CREATED:20251027T160909Z
LAST-MODIFIED:20251027T161112Z
UID:1367-1767632400-1767646800@www.klg-gruenland.at
SUMMARY:Punschfest 05.01.2026
DESCRIPTION:
URL:https://www.klg-gruenland.at/event/1367/
LOCATION:Festwiese\, Kleingarten Grünland
END:VEVENT
BEGIN:VEVENT
DTSTART;TZID=Europe/Berlin:20241110T100000
DTEND;TZID=Europe/Berlin:20241110T110000
DTSTAMP:20260420T143522
CREATED:20240624T131009Z
LAST-MODIFIED:20240624T131009Z
UID:1277-1731232800-1731236400@www.klg-gruenland.at
SUMMARY:Sprechstunde
DESCRIPTION:
URL:https://www.klg-gruenland.at/event/sprechstunde-13/
LOCATION:Vereinsheim
END:VEVENT
BEGIN:VEVENT
DTSTART;TZID=Europe/Berlin:20241006T100000
DTEND;TZID=Europe/Berlin:20241006T110000
DTSTAMP:20260420T143522
CREATED:20240624T130907Z
LAST-MODIFIED:20240624T130907Z
UID:1275-1728208800-1728212400@www.klg-gruenland.at
SUMMARY:Sprechstunde
DESCRIPTION:
URL:https://www.klg-gruenland.at/event/sprechstunde-12/
LOCATION:Vereinsheim
END:VEVENT
BEGIN:VEVENT
DTSTART;TZID=Europe/Berlin:20240908T100000
DTEND;TZID=Europe/Berlin:20240908T110000
DTSTAMP:20260420T143522
CREATED:20240624T130550Z
LAST-MODIFIED:20240624T130550Z
UID:1273-1725789600-1725793200@www.klg-gruenland.at
SUMMARY:Sprechstunde
DESCRIPTION:
URL:https://www.klg-gruenland.at/event/sprechstunde-11/
LOCATION:Vereinsheim
END:VEVENT
BEGIN:VEVENT
DTSTART;TZID=Europe/Berlin:20240615T090000
DTEND;TZID=Europe/Berlin:20240615T110000
DTSTAMP:20260420T143522
CREATED:20240210T161331Z
LAST-MODIFIED:20240210T161331Z
UID:1245-1718442000-1718449200@www.klg-gruenland.at
SUMMARY:Generalversammlung 1. Termin
DESCRIPTION:Wir laden alle Mitglieder herzlich  zur Generalversammlung ein. \nHeuer wird der Vorstand neu gewählt. Jede Parzelle hat eine Stimme. Sollten sie an diesem Tag verhindert sein\, trotzdem aber ihre Stimme abgeben wollen\, können sie eine Vollmacht an ein anderes Mitglied übergeben. Diese muss bei der Eingangskontrolle schriftlich abgegeben werden. \nWir empfehlen ihnen einen Sonnenschutz und Wasser zum trinken mit zu nehmen. \nErsatztermin bei Schlechtwetter am 22.6.2024  9-11 Uhr\, Festwiese
URL:https://www.klg-gruenland.at/event/generalversammlung-1-termin/
LOCATION:Festwiese\, Kleingarten Grünland
END:VEVENT
BEGIN:VEVENT
DTSTART;TZID=Europe/Berlin:20240609T100000
DTEND;TZID=Europe/Berlin:20240609T110000
DTSTAMP:20260420T143522
CREATED:20240210T160714Z
LAST-MODIFIED:20240210T160714Z
UID:1243-1717927200-1717930800@www.klg-gruenland.at
SUMMARY:Sprechstunde
DESCRIPTION:
URL:https://www.klg-gruenland.at/event/sprechstunde-10/
LOCATION:Vereinsheim
END:VEVENT
BEGIN:VEVENT
DTSTART;TZID=Europe/Berlin:20240505T100000
DTEND;TZID=Europe/Berlin:20240505T110000
DTSTAMP:20260420T143522
CREATED:20240210T160609Z
LAST-MODIFIED:20240210T160609Z
UID:1241-1714903200-1714906800@www.klg-gruenland.at
SUMMARY:Sprechstunde
DESCRIPTION:
URL:https://www.klg-gruenland.at/event/sprechstunde-9/
LOCATION:Vereinsheim
END:VEVENT
BEGIN:VEVENT
DTSTART;TZID=Europe/Berlin:20240407T100000
DTEND;TZID=Europe/Berlin:20240407T110000
DTSTAMP:20260420T143522
CREATED:20240210T160506Z
LAST-MODIFIED:20240210T160631Z
UID:1239-1712484000-1712487600@www.klg-gruenland.at
SUMMARY:Sprechstunde
DESCRIPTION:
URL:https://www.klg-gruenland.at/event/sprechstunde-8/
LOCATION:Vereinsheim
END:VEVENT
BEGIN:VEVENT
DTSTART;TZID=Europe/Berlin:20240405T180000
DTEND;TZID=Europe/Berlin:20240405T200000
DTSTAMP:20260420T143522
CREATED:20240210T160404Z
LAST-MODIFIED:20240210T160404Z
UID:1237-1712340000-1712347200@www.klg-gruenland.at
SUMMARY:Open door neues Vereinsheim
DESCRIPTION:Wir sind stolz das Projekt “Vereinsheim” jetzt auch als Gebäude den Mitgliedern zu zeigen. Die Vereinsleitung  ladet zu einem Glas Sekt\, Bier oder einem alkoholfreien Getränk ein. \nEs gibt an diesem Abend keine Speisen! \nWir freuen uns über eine Spende für weitere Projekte für den Verein.
URL:https://www.klg-gruenland.at/event/open-door-neues-vereinsheim/
LOCATION:Festwiese\, Kleingarten Grünland
END:VEVENT
BEGIN:VEVENT
DTSTART;TZID=Europe/Berlin:20231001T100000
DTEND;TZID=Europe/Berlin:20231001T110000
DTSTAMP:20260420T143522
CREATED:20221212T142822Z
LAST-MODIFIED:20221212T142822Z
UID:1075-1696154400-1696158000@www.klg-gruenland.at
SUMMARY:Sprechstunde
DESCRIPTION:
URL:https://www.klg-gruenland.at/event/sprechstunde-7/
LOCATION:Vereinsheim
END:VEVENT
BEGIN:VEVENT
DTSTART;TZID=Europe/Berlin:20230903T100000
DTEND;TZID=Europe/Berlin:20230903T110000
DTSTAMP:20260420T143522
CREATED:20221212T142803Z
LAST-MODIFIED:20221212T142803Z
UID:1074-1693735200-1693738800@www.klg-gruenland.at
SUMMARY:Sprechstunde
DESCRIPTION:
URL:https://www.klg-gruenland.at/event/sprechstunde-6/
LOCATION:Vereinsheim
END:VEVENT
BEGIN:VEVENT
DTSTART;TZID=Europe/Berlin:20230729T160000
DTEND;TZID=Europe/Berlin:20230729T230000
DTSTAMP:20260420T143522
CREATED:20230302T162613Z
LAST-MODIFIED:20230302T163059Z
UID:1119-1690646400-1690671600@www.klg-gruenland.at
SUMMARY:Sommerfest des KLG Grünland
DESCRIPTION:
URL:https://www.klg-gruenland.at/event/sommerfest-des-klg-gruenland/
LOCATION:Festwiese\, Kleingarten Grünland
END:VEVENT
BEGIN:VEVENT
DTSTART;TZID=Europe/Berlin:20230702T100000
DTEND;TZID=Europe/Berlin:20230702T110000
DTSTAMP:20260420T143522
CREATED:20221212T142741Z
LAST-MODIFIED:20221212T142741Z
UID:1073-1688292000-1688295600@www.klg-gruenland.at
SUMMARY:Sprechstunde
DESCRIPTION:
URL:https://www.klg-gruenland.at/event/sprechstunde-5/
LOCATION:Vereinsheim
END:VEVENT
BEGIN:VEVENT
DTSTART;TZID=Europe/Berlin:20230624T090000
DTEND;TZID=Europe/Berlin:20230624T110000
DTSTAMP:20260420T143522
CREATED:20221212T143052Z
LAST-MODIFIED:20221212T143052Z
UID:1081-1687597200-1687604400@www.klg-gruenland.at
SUMMARY:Ersatztermin Generalversammlung
DESCRIPTION:
URL:https://www.klg-gruenland.at/event/ersatztermin-generalversammlung/
LOCATION:Festwiese\, Kleingarten Grünland
END:VEVENT
BEGIN:VEVENT
DTSTART;TZID=Europe/Berlin:20230617T090000
DTEND;TZID=Europe/Berlin:20230617T110000
DTSTAMP:20260420T143522
CREATED:20221212T143009Z
LAST-MODIFIED:20221212T143009Z
UID:1079-1686992400-1686999600@www.klg-gruenland.at
SUMMARY:Generalversammlung
DESCRIPTION:
URL:https://www.klg-gruenland.at/event/generalversammlung/
LOCATION:Festwiese\, Kleingarten Grünland
END:VEVENT
BEGIN:VEVENT
DTSTART;TZID=Europe/Berlin:20230604T100000
DTEND;TZID=Europe/Berlin:20230604T110000
DTSTAMP:20260420T143522
CREATED:20221212T135149Z
LAST-MODIFIED:20221212T142700Z
UID:1069-1685872800-1685876400@www.klg-gruenland.at
SUMMARY:Sprechstunde
DESCRIPTION:
URL:https://www.klg-gruenland.at/event/sprechstunde-4/
LOCATION:Vereinsheim
END:VEVENT
BEGIN:VEVENT
DTSTART;TZID=Europe/Berlin:20230603T080000
DTEND;TZID=Europe/Berlin:20230603T123000
DTSTAMP:20260420T143522
CREATED:20230404T155115Z
LAST-MODIFIED:20230404T155115Z
UID:1184-1685779200-1685795400@www.klg-gruenland.at
SUMMARY:Sperrmüllabholung
DESCRIPTION:
URL:https://www.klg-gruenland.at/event/sperrmuellabholung/
END:VEVENT
BEGIN:VEVENT
DTSTART;TZID=Europe/Berlin:20230526T150000
DTEND;TZID=Europe/Berlin:20230526T180000
DTSTAMP:20260420T143522
CREATED:20230404T154928Z
LAST-MODIFIED:20230404T154928Z
UID:1182-1685113200-1685124000@www.klg-gruenland.at
SUMMARY:Kaffe und Kuchen Seniorentreffen Ersatztermin
DESCRIPTION:
URL:https://www.klg-gruenland.at/event/kaffe-und-kuchen-seniorentreffen-ersatztermin/
LOCATION:Festwiese\, Kleingarten Grünland
END:VEVENT
BEGIN:VEVENT
DTSTART;TZID=Europe/Berlin:20230512T150000
DTEND;TZID=Europe/Berlin:20230512T180000
DTSTAMP:20260420T143522
CREATED:20230302T163312Z
LAST-MODIFIED:20230302T163312Z
UID:1121-1683903600-1683914400@www.klg-gruenland.at
SUMMARY:Kaffee und Kuchen Seniorentreffen KLG Grünland
DESCRIPTION:
URL:https://www.klg-gruenland.at/event/kaffee-und-kuchen-seniorentreffen-klg-gruenland/
LOCATION:Festwiese\, Kleingarten Grünland
END:VEVENT
BEGIN:VEVENT
DTSTART;TZID=Europe/Berlin:20230423T090000
DTEND;TZID=Europe/Berlin:20230423T130000
DTSTAMP:20260420T143522
CREATED:20230302T162317Z
LAST-MODIFIED:20230302T162317Z
UID:1117-1682240400-1682254800@www.klg-gruenland.at
SUMMARY:Flohmarkt KLG Grünland
DESCRIPTION:
URL:https://www.klg-gruenland.at/event/flohmarkt-klg-gruenland/
LOCATION:Festwiese\, Kleingarten Grünland
END:VEVENT
BEGIN:VEVENT
DTSTART;TZID=Europe/Berlin:20230415T090000
DTEND;TZID=Europe/Berlin:20230415T130000
DTSTAMP:20260420T143522
CREATED:20230404T154502Z
LAST-MODIFIED:20230404T154502Z
UID:1180-1681549200-1681563600@www.klg-gruenland.at
SUMMARY:Generavlersammlung 80 iger Linie
DESCRIPTION:Dies ist eine geschlossene Veranstaltung für die Mitglieder des KGV 80 iger Linie
URL:https://www.klg-gruenland.at/event/generavlersammlung-80-iger-linie/
LOCATION:Festwiese\, Kleingarten Grünland
END:VEVENT
BEGIN:VEVENT
DTSTART;TZID=Europe/Berlin:20230326T100000
DTEND;TZID=Europe/Berlin:20230326T110000
DTSTAMP:20260420T143522
CREATED:20221212T135018Z
LAST-MODIFIED:20221212T135018Z
UID:1067-1679824800-1679828400@www.klg-gruenland.at
SUMMARY:Sprechstunde
DESCRIPTION:
URL:https://www.klg-gruenland.at/event/sprechstunde-3/
LOCATION:Vereinsheim
END:VEVENT
BEGIN:VEVENT
DTSTART;TZID=Europe/Berlin:20221202T180000
DTEND;TZID=Europe/Berlin:20221202T220000
DTSTAMP:20260420T143522
CREATED:20221103T122709Z
LAST-MODIFIED:20221103T122709Z
UID:1043-1670004000-1670018400@www.klg-gruenland.at
SUMMARY:Punschfest
DESCRIPTION:Einladung zum Punschfest GRÜNLAND
URL:https://www.klg-gruenland.at/event/punschfest/
LOCATION:Festwiese\, Kleingarten Grünland
END:VEVENT
BEGIN:VEVENT
DTSTART;TZID=Europe/Berlin:20221014T180000
DTEND;TZID=Europe/Berlin:20221014T200000
DTSTAMP:20260420T143522
CREATED:20220929T102358Z
LAST-MODIFIED:20220929T102521Z
UID:1024-1665770400-1665777600@www.klg-gruenland.at
SUMMARY:Energiemeeting für Vereinsleitungen des 2. Bezirks
DESCRIPTION:Informationsveranstaltung der Fima Nobile Group zum Thema Photovoltaikanlagen lokal oder regional. \nEingeladen sind die Vereinsleitungen der KGV des 2. Bezirks
URL:https://www.klg-gruenland.at/event/energiemeeting-fuer-vereinsleitungen-des-2-bezirks/
LOCATION:Festwiese\, Kleingarten Grünland
ORGANIZER;CN="Petra H%C3%BCbsch":MAILTO:Klgv.gruenland@a1.net
END:VEVENT
BEGIN:VEVENT
DTSTART;TZID=Europe/Berlin:20221009T100000
DTEND;TZID=Europe/Berlin:20221009T110000
DTSTAMP:20260420T143522
CREATED:20220919T071134Z
LAST-MODIFIED:20220919T071134Z
UID:1008-1665309600-1665313200@www.klg-gruenland.at
SUMMARY:Sprechstunde
DESCRIPTION:
URL:https://www.klg-gruenland.at/event/sprechstunde-2/
LOCATION:Vereinsheim
END:VEVENT
BEGIN:VEVENT
DTSTART;TZID=Europe/Berlin:20220924T160000
DTEND;TZID=Europe/Berlin:20220924T220000
DTSTAMP:20260420T143522
CREATED:20220919T071151Z
LAST-MODIFIED:20220919T071219Z
UID:1005-1664035200-1664056800@www.klg-gruenland.at
SUMMARY:Fest Schmolik Parz 228
DESCRIPTION:
URL:https://www.klg-gruenland.at/event/fest-schmolik/
LOCATION:Festwiese\, Kleingarten Grünland
END:VEVENT
BEGIN:VEVENT
DTSTART;TZID=Europe/Berlin:20220916T190000
DTEND;TZID=Europe/Berlin:20220916T233000
DTSTAMP:20260420T143522
CREATED:20220903T191124Z
LAST-MODIFIED:20220903T191124Z
UID:987-1663354800-1663371000@www.klg-gruenland.at
SUMMARY:Fest Kolarik Parzelle 154
DESCRIPTION:
URL:https://www.klg-gruenland.at/event/fest-kolarik-parzelle-154/
LOCATION:Festwiese\, Kleingarten Grünland
END:VEVENT
BEGIN:VEVENT
DTSTART;TZID=Europe/Berlin:20220910T073000
DTEND;TZID=Europe/Berlin:20220910T123000
DTSTAMP:20260420T143522
CREATED:20220725T134331Z
LAST-MODIFIED:20220725T134331Z
UID:961-1662795000-1662813000@www.klg-gruenland.at
SUMMARY:Sperrmüllaktion
DESCRIPTION:
URL:https://www.klg-gruenland.at/event/sperrmuellaktion/
END:VEVENT
BEGIN:VEVENT
DTSTART;TZID=Europe/Berlin:20220907T180000
DTEND;TZID=Europe/Berlin:20220907T220000
DTSTAMP:20260420T143522
CREATED:20220903T191721Z
LAST-MODIFIED:20220903T191721Z
UID:989-1662573600-1662588000@www.klg-gruenland.at
SUMMARY:Fest Jiang Parzelle 55
DESCRIPTION:
URL:https://www.klg-gruenland.at/event/fest-jiang-parzelle-55/
LOCATION:Festwiese\, Kleingarten Grünland
END:VEVENT
BEGIN:VEVENT
DTSTART;TZID=Europe/Berlin:20220904T110000
DTEND;TZID=Europe/Berlin:20220904T123000
DTSTAMP:20260420T143522
CREATED:20220725T134224Z
LAST-MODIFIED:20220725T134224Z
UID:958-1662289200-1662294600@www.klg-gruenland.at
SUMMARY:Feuerlöscher
DESCRIPTION:Sie können einen Feuerlöscher erwerben oder ihren bereits vorhandenen warten lassen. Die Firma Crisu macht diesmal auch eine kleine Löschübung für Erwachsene und Kinder.
URL:https://www.klg-gruenland.at/event/feuerloescher/
LOCATION:Festwiese\, Kleingarten Grünland
END:VEVENT
END:VCALENDAR